BEGIN:VCALENDAR
VERSION:2.0
CALSCALE:GREGORIAN
METHOD:PUBLISH
X-WR-TIMEZONE:Australia/Sydney
BEGIN:VTIMEZONE
TZID:Australia/Sydney
BEGIN:STANDARD
TZNAME:AEST
END:STANDARD
END:VTIMEZONE
BEGIN:VEVENT
DTSTART;TZID=Australia/Sydney:20260318T080000
DTEND;TZID=Australia/Sydney:20260318T130000
DTSTAMP:20260422T183827
UID:268
SUMMARY:I Sea I Care - Moonraker
DESCRIPTION:




I Sea I Care leaders will&amp;nbsp;be driven to Sorrento Pier, leaving school at&amp;nbsp;8.00am&amp;nbsp;and returning by approx. 1:00pm


SEQUENCE:0
STATUS:CONFIRMED
TRANSP:OPAQUE
END:VEVENT
END:VCALENDAR