BEGIN:VCALENDAR
VERSION:2.0
CALSCALE:GREGORIAN
METHOD:PUBLISH
X-WR-TIMEZONE:Australia/Sydney
BEGIN:VTIMEZONE
TZID:Australia/Sydney
BEGIN:STANDARD
TZNAME:AEST
END:STANDARD
END:VTIMEZONE
BEGIN:VEVENT
DTSTART;TZID=Australia/Sydney:20260511T084500
DTEND;TZID=Australia/Sydney:20260511T150000
DTSTAMP:20260421T235224
UID:281
SUMMARY:Year 2 Gould League - Earth&#039;s Treasures
DESCRIPTION:




IMPORTANT: Departing MMPS at 8:45am


SEQUENCE:0
STATUS:CONFIRMED
TRANSP:OPAQUE
END:VEVENT
END:VCALENDAR