BEGIN:VCALENDAR
VERSION:2.0
CALSCALE:GREGORIAN
METHOD:PUBLISH
X-WR-TIMEZONE:Australia/Sydney
BEGIN:VTIMEZONE
TZID:Australia/Sydney
BEGIN:STANDARD
TZNAME:AEST
END:STANDARD
END:VTIMEZONE
BEGIN:VEVENT
DTSTART;TZID=Australia/Sydney:20260528T073000
DTEND;TZID=Australia/Sydney:20260528T153000
DTSTAMP:20260421T235949
UID:282
SUMMARY:Year 5 Melbourne Zoo
DESCRIPTION:




IMPORTANT :&amp;nbsp; Departing MMPS at 7:30am


SEQUENCE:0
STATUS:CONFIRMED
TRANSP:OPAQUE
END:VEVENT
END:VCALENDAR