BEGIN:VCALENDAR
VERSION:2.0
CALSCALE:GREGORIAN
METHOD:PUBLISH
X-WR-TIMEZONE:Australia/Sydney
BEGIN:VTIMEZONE
TZID:Australia/Sydney
BEGIN:STANDARD
TZNAME:AEST
END:STANDARD
END:VTIMEZONE
BEGIN:VEVENT
DTSTART;TZID=Australia/Sydney:20260619T090000
DTEND;TZID=Australia/Sydney:20260619T153000
DTSTAMP:20260422T000032
UID:284
SUMMARY:Year 6 &quot;The Launch&quot; Incursion
DESCRIPTION:




Our students will be participating in a &quot;Mini Boss&quot; Incursion where they will work in teams to design, prototype, and launch a brand new product for a major retailer.&amp;nbsp; It is a day packed with creativity, teamwork, and real-world challenges.


SEQUENCE:0
STATUS:CONFIRMED
TRANSP:OPAQUE
END:VEVENT
END:VCALENDAR